BEGIN:VCALENDAR
VERSION:2.0
PRODID:-//ChamberMaster//Event Calendar 2.0//EN
METHOD:PUBLISH
X-PUBLISHED-TTL:P3D
REFRESH-INTERVAL:P3D
CALSCALE:GREGORIAN
BEGIN:VEVENT
DTSTART:20161112T023000Z
DTEND:20161112T040000Z
X-MICROSOFT-CDO-ALLDAYEVENT:FALSE
SUMMARY:The Manhattan Transfer and Take 6
DESCRIPTION:Spend an unforgettable evening grooving to innovative arrangements of jazz\, pop\, swing\, gospel and R&B songs sung in impeccable harmony. With 20 Grammy Awards between them\, the Manhattan Transfer and Take 6 are two of the most legendary groups in a cappella history.\n\n"There's a reason Take 6 has thrived as long as it has: This group still does some things that no one else in its field can touch."  The New York Times
X-ALT-DESC;FMTTYPE=text/html:<span style="font-size: 13.5pt\;"><span style="font-family: helvetica\,sans-serif\;"><span style="color: black\;">Spend an unforgettable evening grooving to innovative arrangements of jazz\, pop\, swing\, gospel and R&amp\;B songs sung in impeccable harmony. With 20 Grammy Awards between them\, the Manhattan Transfer and Take 6 are two of the most legendary groups in a cappella history.</span></span></span><br />\n<span style="font-size: 13.5pt\;"><span style="font-family: helvetica\,sans-serif\;"><span style="color: black\;">&quot\;There&#39\;s a reason Take 6 has thrived as long as it has: This group still does some things that no one else in its field can touch.&quot\; &mdash\;The New York Times</span></span></span><br />\n&nbsp\;
LOCATION:Macky Auditorium University of Colorado Boulder\, -0285\, 1595 Pleasant St\, Boulder\, CO 80309
UID:e.825.1134
SEQUENCE:3
DTSTAMP:20260419T132019Z
URL:http://coblackdev.chambermaster.com/events/details/the-manhattan-transfer-and-take-6-1134
END:VEVENT

END:VCALENDAR
