BEGIN:VCALENDAR
VERSION:2.0
PRODID:-//ChamberMaster//Event Calendar 2.0//EN
METHOD:PUBLISH
X-PUBLISHED-TTL:P3D
REFRESH-INTERVAL:P3D
CALSCALE:GREGORIAN
BEGIN:VEVENT
DTSTART:20170126T183000Z
DTEND:20170126T230000Z
X-MICROSOFT-CDO-ALLDAYEVENT:FALSE
SUMMARY:School Choice Rally
DESCRIPTION:Advocates\, students\, parents\, and teachers representing a broad coalition of school choice options will come together to celebrate educational opportunity at the capitol during National School Choice Week.\n\n\n\nThe event's goal is to celebrate and raise awareness about the importance of all school choice options in Colorado including traditional public schools\, charter public schools\, magnet public schools\, innovation public schools\, online schools\, private schools and homeschool programs. \n\n \n\nThe rally will feature Emmy winning journalist and well known TV personality Rodolfo Jos  C rdenas as its emcee.
X-ALT-DESC;FMTTYPE=text/html:<span style="font-family:arial\;"><span style="font-size:12px\;">Advocates\, students\, parents\, and teachers representing a broad coalition of school choice options will come together to celebrate educational opportunity at the capitol during National School Choice Week.<br />\n<br />\n<strong>The event&rsquo\;s goal is to celebrate and raise awareness about the importance of all school choice options in Colorado including traditional public schools\, charter public schools\, magnet public schools\, innovation public schools\, online schools\, private schools and homeschool programs. </strong><br />\n&nbsp\;</span></span><br />\n<span style="font-family:calibri\;"><span style="font-family:arial\;"><span style="font-size:12px\;">The rally will feature Emmy winning journalist and well known TV personality Rodolfo Jos&eacute\; C&aacute\;rdenas as its emce</span></span>e.</span><br />\n<br />\n<br />\n&nbsp\;
LOCATION:Colorado State Capitol 200 E. Colfax Ave Denver\, CO 80203
UID:e.825.1150
SEQUENCE:3
DTSTAMP:20260419T212837Z
URL:http://coblackdev.chambermaster.com/events/details/school-choice-rally-1150
END:VEVENT

END:VCALENDAR
