BEGIN:VCALENDAR
VERSION:2.0
PRODID:-//ChamberMaster//Event Calendar 2.0//EN
METHOD:PUBLISH
X-PUBLISHED-TTL:P3D
REFRESH-INTERVAL:P3D
CALSCALE:GREGORIAN
BEGIN:VEVENT
DTSTART:20170408T200000Z
DTEND:20170408T213000Z
X-MICROSOFT-CDO-ALLDAYEVENT:FALSE
SUMMARY:N.E. Denver Town Hall Meeting
DESCRIPTION:Join Northeast Denver elected officials Senator Angela Williams\, Representative James Coleman\,and Representative Leslie Herod for a town hell meeting! The Colorado legislature is considering the state budget and transportation plan now\, so we'll be talking about those topics\, along with answering your questions. Se e you there!
X-ALT-DESC;FMTTYPE=text/html:Join Northeast Denver elected officials Senator Angela Williams\, Representative James Coleman\,and Representative Leslie Herod for a town hell meeting! The Colorado legislature is considering the state budget and transportation plan now\, so we&#39\;ll be talking about those topics\, along with answering your questions. Se e you there!&nbsp\;
LOCATION:Manual High School 1700 E. 28th Ave. Denver\, CO 80205
UID:e.825.1174
SEQUENCE:3
DTSTAMP:20260420T183244Z
URL:http://coblackdev.chambermaster.com/events/details/n-e-denver-town-hall-meeting-1174
END:VEVENT

END:VCALENDAR
