BEGIN:VCALENDAR
VERSION:2.0
PRODID:-//ChamberMaster//Event Calendar 2.0//EN
METHOD:PUBLISH
X-PUBLISHED-TTL:P3D
REFRESH-INTERVAL:P3D
CALSCALE:GREGORIAN
BEGIN:VEVENT
DTSTART:20170413T210000Z
DTEND:20170413T230000Z
X-MICROSOFT-CDO-ALLDAYEVENT:FALSE
SUMMARY:Multicultural Community Energy Forum (MCEF)
DESCRIPTION:Our goal is to bring together community leaders from across the Denver/Metro area and representatives from the oil and natural gas industry to educate and discuss opportunities within the industry here in Colorado.\n \n\n \n\nPlease RSVP to Fran Natividad Coleman (CRED Hispanic Outreach Coordinator) at fran.natividadcoleman@bdoutreach.com\, by Monday\, April 10th.
X-ALT-DESC;FMTTYPE=text/html:<span style="color: rgb(78\, 75\, 71)\; font-family: Arial\, sans-serif\; font-size: 16px\; text-align: center\; background-color: rgb(255\, 255\, 255)\;">Our&nbsp\;goal is to bring together community leaders from across the Denver/Metro area and representatives from the oil and natural gas industry to educate and discuss opportunities&nbsp\;within the industry here in Colorado.</span>\n<div>&nbsp\;</div>\n\n<div>&nbsp\;</div>\n\n<div><span style="color: rgb(78\, 75\, 71)\; font-family: Arial\, sans-serif\; font-size: 16px\; text-align: center\; background-color: rgb(255\, 255\, 255)\;">Please&nbsp\;</span><b style="color: rgb(78\, 75\, 71)\; font-family: Arial\, sans-serif\; font-size: 16px\; text-align: center\; background-color: rgb(255\, 255\, 255)\;">RSVP&nbsp\;</b><span style="color: rgb(78\, 75\, 71)\; font-family: Arial\, sans-serif\; font-size: 16px\; text-align: center\; background-color: rgb(255\, 255\, 255)\;">to&nbsp\;Fran Natividad Coleman (CRED Hispanic Outreach Coordinator) at&nbsp\;</span><a href="mailto:fran.natividadcoleman@bdoutreach.com" rel="noreferrer" style="color: purple\; font-family: Arial\, sans-serif\; font-size: 16px\; text-align: center\; background-color: rgb(255\, 255\, 255)\;"><span style="color: rgb(141\, 64\, 68)\;">fran.natividadcoleman@bdoutreach.com</span></a><span style="color: rgb(78\, 75\, 71)\; font-family: Arial\, sans-serif\; font-size: 16px\; text-align: center\; background-color: rgb(255\, 255\, 255)\;">\,&nbsp\;by&nbsp\;</span><b style="color: rgb(78\, 75\, 71)\; font-family: Arial\, sans-serif\; font-size: 16px\; text-align: center\; background-color: rgb(255\, 255\, 255)\;">Monday\, April 10th.</b></div>\n
LOCATION:Denver Metro Chamber of Commerce
UID:e.825.1173
SEQUENCE:3
DTSTAMP:20260420T073814Z
URL:http://coblackdev.chambermaster.com/events/details/multicultural-community-energy-forum-mcef-1173
END:VEVENT

END:VCALENDAR
