BEGIN:VCALENDAR
VERSION:2.0
PRODID:-//ChamberMaster//Event Calendar 2.0//EN
METHOD:PUBLISH
X-PUBLISHED-TTL:P3D
REFRESH-INTERVAL:P3D
CALSCALE:GREGORIAN
BEGIN:VEVENT
DTSTART:20170427T170000Z
DTEND:20170427T220000Z
X-MICROSOFT-CDO-ALLDAYEVENT:FALSE
SUMMARY:Jobs Corps Expo
DESCRIPTION:Learn how to qualify for FREE training and employment assistance \n\nFind out about employment opportunities in the skilled trade industries \n\nSee about the move from a "job" to a "Career" \n\nRealize your personal potential through knowledge and skills \n\nDiscover the value of certifications and experience \n\nTest your abilities with interactive displays \n\nSpeak to employers in the "know"
X-ALT-DESC;FMTTYPE=text/html:<p><span style="font-size: 12px\;"><span style="font-family: arial\;">Learn how to qualify for FREE training and employment assistance </span></span></p>\n\n<p><span style="font-size: 12px\;"><span style="font-family: arial\;">Find out about employment opportunities in the skilled trade industries </span></span></p>\n\n<p><span style="font-size: 12px\;"><span style="font-family: arial\;">See about the move from a &quot\;job&quot\; to a &quot\;Career&quot\; </span></span></p>\n\n<p><span style="font-size: 12px\;"><span style="font-family: arial\;">Realize your personal potential through knowledge and skills </span></span></p>\n\n<p><span style="font-size: 12px\;"><span style="font-family: arial\;">Discover the value of certifications and experience </span></span></p>\n\n<p><span style="font-size: 12px\;"><span style="font-family: arial\;">Test your abilities with interactive displays </span></span></p>\n\n<p><span style="font-size: 12px\;"><span style="font-family: arial\;">Speak to employers in the &quot\;know&quot\; </span></span></p>\n
LOCATION:Doubletree Hotel (IIiff & I-225)
UID:e.825.1177
SEQUENCE:3
DTSTAMP:20260419T204513Z
URL:http://coblackdev.chambermaster.com/events/details/jobs-corps-expo-1177
END:VEVENT

END:VCALENDAR
