BEGIN:VCALENDAR
VERSION:2.0
PRODID:-//ChamberMaster//Event Calendar 2.0//EN
METHOD:PUBLISH
X-PUBLISHED-TTL:P3D
REFRESH-INTERVAL:P3D
CALSCALE:GREGORIAN
BEGIN:VEVENT
DTSTART:20170124T000000Z
DTEND:20170124T030000Z
X-MICROSOFT-CDO-ALLDAYEVENT:FALSE
SUMMARY:Increasing Access to Quality Public Education
DESCRIPTION:The Denver 100 will be hosting a community conversation on increasing access to quality public education.
X-ALT-DESC;FMTTYPE=text/html:<span style="color: black\; font-family: &quot\;Helvetica Neue&quot\;\; font-size: 12pt\; mso-fareast-font-family: Calibri\; mso-fareast-theme-font: minor-latin\; mso-bidi-font-family: &quot\;Times New Roman&quot\;\; mso-ansi-language: EN-US\; mso-fareast-language: EN-US\; mso-bidi-language: AR-SA\;">The Denver 100 will be hosting a community conversation on increasing access to quality public education.</span>
LOCATION:Blair-Caldwell African American Research Library 2401 Welton St\, Denver\, CO 80205
UID:e.825.1142
SEQUENCE:3
DTSTAMP:20260420T000054Z
URL:http://coblackdev.chambermaster.com/events/details/increasing-access-to-quality-public-education-1142
END:VEVENT

END:VCALENDAR
