BEGIN:VCALENDAR
VERSION:2.0
PRODID:-//ChamberMaster//Event Calendar 2.0//EN
METHOD:PUBLISH
X-PUBLISHED-TTL:P3D
REFRESH-INTERVAL:P3D
CALSCALE:GREGORIAN
BEGIN:VEVENT
DTSTART:20170527T151500Z
DTEND:20170527T193000Z
X-MICROSOFT-CDO-ALLDAYEVENT:FALSE
SUMMARY:Black Genealogy Search Group Programs
DESCRIPTION:The Black Genealogy Search Group (BGSG) meets every fourth Saturday of the month except in August and December.
X-ALT-DESC;FMTTYPE=text/html:<span style="font-family: arial\;"><span style="font-size: 10.5pt\;"><span style="color: black\;">The&nbsp\;<a href="http://denverlibrary.us3.list-manage.com/track/click?u=af6abcaf6b0b3a03ddb4bbd92&amp\;id=7bcf22ce69&amp\;e=cb30f1fe2a" target="_blank"><span style="color: rgb(0\, 117\, 159)\;">Black Genealogy Search Group</span></a>&nbsp\;(BGSG) meets every fourth Saturday of the month except in August and December.</span></span></span><br />\n&nbsp\;
LOCATION:Blair-Caldwell Library
UID:e.825.1196
SEQUENCE:3
DTSTAMP:20260420T111847Z
URL:http://coblackdev.chambermaster.com/events/details/black-genealogy-search-group-programs-1196
END:VEVENT

END:VCALENDAR
