BEGIN:VCALENDAR
VERSION:2.0
PRODID:-//ChamberMaster//Event Calendar 2.0//EN
METHOD:PUBLISH
X-PUBLISHED-TTL:P3D
REFRESH-INTERVAL:P3D
CALSCALE:GREGORIAN
BEGIN:VEVENT
DTSTART:20140722T220000Z
DTEND:20140723T000000Z
X-MICROSOFT-CDO-ALLDAYEVENT:FALSE
SUMMARY:Black Construction Group Monthly Meeting
DESCRIPTION:Black Construction Group Meeting\n\nSpecial Presentation by Mortenson Construction\n\nTuesday\, July 22\, 2014 | 4pm   6pm\n\n \n\nRegister today for the upcoming Black Construction Group meeting\, which will be held Tuesday\, July 22\, 2014\, from 4pm   6pm.  In addition to the opportunity to network with other leading construction industry professionals\, the event will feature key personnel from Mortenson Construction as they share their upcoming project and procurement opportunities with the Denver Operating Group.\n\n \n\nDon't miss the opportunity to connect and learn what opportunities are available for your company.\n\n \n\nRegister Now Space is Limited!\n\n \n\nRegistration Rates:\n\nCBCC Member - $10\n\nFuture CBCC Member - $15\n\nRegistration deadline   Monday\, July 21\, 2014
X-ALT-DESC;FMTTYPE=text/html:<strong><span style="font-size:14.0pt\;">Black Construction Group Meeting</span></strong><br />\n<strong><span style="font-size:14.0pt\;">Special Presentation by Mortenson Construction</span></strong><br />\nTuesday\, July 22\, 2014 | 4pm &ndash\; 6pm<br />\n&nbsp\;<br />\nRegister today for the upcoming Black Construction Group meeting\, which will be held Tuesday\, July 22\, 2014\, from 4pm &ndash\; 6pm.&nbsp\; In addition to the opportunity to network with other leading construction industry professionals\, the event will feature key personnel from Mortenson Construction as they share their upcoming project and procurement opportunities with the Denver Operating Group.<br />\n&nbsp\;<br />\nDon&rsquo\;t miss the opportunity to connect and learn what opportunities are available for your company.<br />\n&nbsp\;<br />\nRegister Now&mdash\;Space is Limited!<br />\n&nbsp\;<br />\n<strong>Registration Rates:</strong><br />\nCBCC Member - $10<br />\nFuture CBCC Member - $15<br />\n<em>Registration deadline &ndash\; Monday\, July 21\, 2014</em>
LOCATION:AGC Colorado 1114 W 7th Ave # 200 Denver\, CO 80204
UID:e.825.967
SEQUENCE:3
DTSTAMP:20260419T164203Z
URL:http://coblackdev.chambermaster.com/events/details/black-construction-group-monthly-meeting-07-22-2014-967
END:VEVENT

END:VCALENDAR
