BEGIN:VCALENDAR
VERSION:2.0
PRODID:-//ChamberMaster//Event Calendar 2.0//EN
METHOD:PUBLISH
X-PUBLISHED-TTL:P3D
REFRESH-INTERVAL:P3D
CALSCALE:GREGORIAN
BEGIN:VEVENT
DTSTART:20170110T233000Z
DTEND:20170111T013000Z
X-MICROSOFT-CDO-ALLDAYEVENT:FALSE
SUMMARY:Black Construction Group Meeting
DESCRIPTION:Join us as we unveil strategic direction for Colorado black construction groups.
X-ALT-DESC;FMTTYPE=text/html:Join us as we unveil strategic direction for Colorado black construction groups.
LOCATION:Diverse Business Center 444 Sherman Street Denver\, CO 80203
UID:e.825.3953
SEQUENCE:3
DTSTAMP:20260419T184251Z
URL:http://coblackdev.chambermaster.com/events/details/black-construction-group-meeting-01-10-2017-3953
END:VEVENT

END:VCALENDAR
